BEGIN:VCALENDAR
VERSION:2.0
PRODID:-//ZID - ECPv5.0.3.1//NONSGML v1.0//EN
CALSCALE:GREGORIAN
METHOD:PUBLISH
X-WR-CALNAME:ZID
X-ORIGINAL-URL:https://zid-mb.si
X-WR-CALDESC:Events for ZID
BEGIN:VTIMEZONE
TZID:Europe/Ljubljana
BEGIN:DAYLIGHT
TZOFFSETFROM:+0100
TZOFFSETTO:+0200
TZNAME:CEST
DTSTART:20240331T010000
END:DAYLIGHT
BEGIN:STANDARD
TZOFFSETFROM:+0200
TZOFFSETTO:+0100
TZNAME:CET
DTSTART:20241027T010000
END:STANDARD
END:VTIMEZONE
BEGIN:VEVENT
DTSTART;TZID=Europe/Ljubljana:20240912T080000
DTEND;TZID=Europe/Ljubljana:20240912T180000
DTSTAMP:20260421T122107
CREATED:20240827T120107Z
LAST-MODIFIED:20240827T120130Z
UID:4006-1726128000-1726164000@zid-mb.si
SUMMARY:Enodnevna strokovna ekskurzija Društva živilcev v Mursko Soboto in okolico
DESCRIPTION:Društvo živilskih in prehranskih strokovnih delavcev SV Slovenije vabi na strokovno ekskurzijo v Mursko Soboto in okolico. Ekskurzija bo v četrtek\, 12. 9. 2024\, program zajema ogled podjetja MLINOPEK z ogledom in predstavitvijo predelave žit\, pekarstva in slaščičarstva\, obisk podjetja POMURSKE MLEKARNE ter proizvodnje mleka in mlečnih izdelkov\, obisk DRUŽINSKE KMETIJE CIGÜT v Noršincih in njihove vzreje govedi ter proizvodnje domačih izdelkov. Pred kosilom si bodo udeleženci pogledali še gotsko cerkev svetega Martina iz 14. stoletja v Martjancih. \nCena po udeležencu znaša 42 € (ob udeležbi najmanj 25 udeležencev) in zajema stroške avtobusnega prevoza\, kosila in organizacije ekskurzije. \nPrijave sprejema ga. Marija Sraka na tel. 041 344 317 ali na marija.sraka25@gmail.com do zasedbe 44-sedežnega avtobusa oz. najpozneje do petka 7. septembra 2024 do 12.00 ure. Upoštevane bodo le prijave\, za katere bo vplačana kotizacija ob prijavi. \n  \n20240912_VabiloPrekmurje\n
URL:https://zid-mb.si/event/enodnevna-strokovna-ekskurzija-drustva-zivilcev-v-mursko-soboto-in-okolico/
LOCATION:Murska Sobota\, Noršinci\, Martjanci
END:VEVENT
END:VCALENDAR