BEGIN:VCALENDAR
VERSION:2.0
PRODID:-//ZID - ECPv5.0.3.1//NONSGML v1.0//EN
CALSCALE:GREGORIAN
METHOD:PUBLISH
X-WR-CALNAME:ZID
X-ORIGINAL-URL:https://zid-mb.si
X-WR-CALDESC:Events for ZID
BEGIN:VTIMEZONE
TZID:Europe/Ljubljana
BEGIN:DAYLIGHT
TZOFFSETFROM:+0100
TZOFFSETTO:+0200
TZNAME:CEST
DTSTART:20210328T010000
END:DAYLIGHT
BEGIN:STANDARD
TZOFFSETFROM:+0200
TZOFFSETTO:+0100
TZNAME:CET
DTSTART:20211031T010000
END:STANDARD
END:VTIMEZONE
BEGIN:VEVENT
DTSTART;TZID=Europe/Ljubljana:20210628T080000
DTEND;TZID=Europe/Ljubljana:20210628T150000
DTSTAMP:20260421T103620
CREATED:20210623T150441Z
LAST-MODIFIED:20210623T160939Z
UID:3413-1624867200-1624892400@zid-mb.si
SUMMARY:Enodnevna strokovna ekskurzija v Duplek\, Zavrh in na grad Vurberk
DESCRIPTION:Društvo živilskih in prehranskih strokovnih delavcev severovzhodne Slovenije Maribor\, Židovska 1\, prireja v ponedeljek\, 28. 06. 2021\, \nENODNEVNO STROKOVNO EKSKURZIJO V DUPLEK\, ZAVRH IN NA GRAD VURBEK \nCena po udeležencu znaša 21\,00 € (ob prijavi najmanj 15 udeležencev) in zajema stroške organizacije in izvedbe strokovne ekskurzije\, razen stroškov prevoza. Prevoz je lasten in na lastno odgovornost. \nPrijave sprejema dr. Blanka Vombergar na tel. št. 040 97 25 98 ali na e-naslov: blanka.vombergar@gmail.com najpozneje do petka 25. junija 2021 do 18.00 ure. Upoštevane bodo le prijave\, za katere bo vplačana kotizacija. Kotizacijo je potrebno vplačati na TRR Društva živilskih in prehranskih strokovnih delavcev SVS v Mariboru; številka 04515-0000464653 pri Novi KBM do petka\, 25. junija 2021. Dodatne informacije lahko dobite pri organizatorici ekskurzije dr. Blanki Vombergar na tel. 040 97 25 98. \nVeč informacij in program  KLIK. \n
URL:https://zid-mb.si/event/enodnevna-strokovna-ekskurzija-v-duplek-zavrh-in-na-grad-vurberk/
LOCATION:Duplek\, Zavrh\, Vurberk
END:VEVENT
END:VCALENDAR