BEGIN:VCALENDAR
VERSION:2.0
PRODID:-//ZID - ECPv5.0.3.1//NONSGML v1.0//EN
CALSCALE:GREGORIAN
METHOD:PUBLISH
X-WR-CALNAME:ZID
X-ORIGINAL-URL:https://zid-mb.si
X-WR-CALDESC:Events for ZID
BEGIN:VTIMEZONE
TZID:Europe/Ljubljana
BEGIN:DAYLIGHT
TZOFFSETFROM:+0100
TZOFFSETTO:+0200
TZNAME:CEST
DTSTART:20210328T010000
END:DAYLIGHT
BEGIN:STANDARD
TZOFFSETFROM:+0200
TZOFFSETTO:+0100
TZNAME:CET
DTSTART:20211031T010000
END:STANDARD
END:VTIMEZONE
BEGIN:VEVENT
DTSTART;TZID=Europe/Ljubljana:20211014T083000
DTEND;TZID=Europe/Ljubljana:20211014T170000
DTSTAMP:20260421T102238
CREATED:20210929T073446Z
LAST-MODIFIED:20210929T073544Z
UID:3455-1634200200-1634230800@zid-mb.si
SUMMARY:Enodnevna strokovna ekskurzija v okolico Maribora
DESCRIPTION:Društvo živilskih in prehranskih strokovnih delavcev severovzhodne Slovenije prireja v četrtek\, 14. 10. 2021\, enodnevno strokovno ekskurzijo v okolico Maribora. \nV okviru ekskurzije bomo obiskali podjetje TRI–REMI in si ogledali proizvodnjo liofiliziranega sadja in zelenjave tee se seznanili z njihovimi proizvodi. Nato sledi obisk OLJARNE FRAM z ogledom najstarejše oljarne pri nas. Za konec se bomo odpravili na TURISTIČNO & EKO KMETIJO PRI BARONU na Planico pri Framu\, kjer bomo po strokovnem ogledu imeli tudi kosilo. \nPrijave sprejema ga. Ksenija Ekart na tel. št. 040 196 117 ali na elektronsko pošto ksenijae@icp-mb.si najpozneje do torka 12. oktobra 2021\, do 12.00.\nUpoštevane bodo le prijave\, za katere bo izvedeno plačilo za ekskurzijo. Plačilo je potrebno izvesti na TRR Društva živilskih in prehranskih strokovnih delavcev SVS v Mariboru; številka 04515-0000464653 pri Novi KBM\, BIC KBMAS/2X. \nZaradi izvajanja obveznih ukrepov za zaščito pred boleznijo covid-19 vljudno prosimo\, da se na ekskurzijo ne prijavijo osebe\, ki so v zadnjih 14 dneh pred ekskurzijo kazale znake te bolezni\, so v karanteni ali samoizolaciji. Upoštevati se morajo PCT predpisi. Izpolnjen mora biti eden od pogojev PCT. S seboj imejte zaščitne maske. Dodatne informacije v zvezi s to ekskurzijo lahko dobite pri ga. Kseniji Ekart tel. 040 196 117. \nVeč informacij in program KLIK \n
URL:https://zid-mb.si/event/enodnevna-strokovna-ekskurzija-v-okolico-maribora/
END:VEVENT
END:VCALENDAR