BEGIN:VCALENDAR
VERSION:2.0
PRODID:-//ZID - ECPv5.0.3.1//NONSGML v1.0//EN
CALSCALE:GREGORIAN
METHOD:PUBLISH
X-WR-CALNAME:ZID
X-ORIGINAL-URL:https://zid-mb.si
X-WR-CALDESC:Events for ZID
BEGIN:VTIMEZONE
TZID:Europe/Ljubljana
BEGIN:DAYLIGHT
TZOFFSETFROM:+0100
TZOFFSETTO:+0200
TZNAME:CEST
DTSTART:20230326T010000
END:DAYLIGHT
BEGIN:STANDARD
TZOFFSETFROM:+0200
TZOFFSETTO:+0100
TZNAME:CET
DTSTART:20231029T010000
END:STANDARD
END:VTIMEZONE
BEGIN:VEVENT
DTSTART;TZID=Europe/Ljubljana:20230413T100000
DTEND;TZID=Europe/Ljubljana:20230414T133000
DTSTAMP:20260421T103241
CREATED:20230406T122700Z
LAST-MODIFIED:20230411T075352Z
UID:3700-1681380000-1681479000@zid-mb.si
SUMMARY:Konferenca: Avtomatizacija v industriji in gospodarstvu
DESCRIPTION:Med 13. in 14. aprilom 2023 bo v Mariboru potekala konferenca  »Avtomatizacija v industriji in gospodarstvu – AIG’23« v organizaciji Društva avtomatikov Slovenije\, Fakultete za elektrotehniko\, računalništvo in informatiko Univerze v Mariboru\, Fakultete za elektrotehniko Univerze v Ljubljani\, Inštituta Jožef Stefan in Kompetenčnega centra za sodobne tehnologije vodenja. \nZa člane društev ZID je urejena brezplačna udeležba\, potrebno pa se je registrirati – izpolnjeno prijavnico  pošljite na konferenca@aig.si. V prijavnici označite “poslušalec ** (brez kotizacije)“. \nVeč o programu in konferenci tukaj https://aig.si/program-konference. \n
URL:https://zid-mb.si/event/konferenca-avtomatizacija-v-industriji-in-gospodarstvu/
LOCATION:Hotel Habakuk\, Pohorska ulica 59\, Maribor\, Slovenija
ATTACH;FMTTYPE=image/png:https://zid-mb.si/wp-content/uploads/2023/04/AIGlogo.png
END:VEVENT
END:VCALENDAR