BEGIN:VCALENDAR
VERSION:2.0
PRODID:-//ZID - ECPv5.0.3.1//NONSGML v1.0//EN
CALSCALE:GREGORIAN
METHOD:PUBLISH
X-WR-CALNAME:ZID
X-ORIGINAL-URL:https://zid-mb.si
X-WR-CALDESC:Events for ZID
BEGIN:VTIMEZONE
TZID:Europe/Ljubljana
BEGIN:DAYLIGHT
TZOFFSETFROM:+0100
TZOFFSETTO:+0200
TZNAME:CEST
DTSTART:20230326T010000
END:DAYLIGHT
BEGIN:STANDARD
TZOFFSETFROM:+0200
TZOFFSETTO:+0100
TZNAME:CET
DTSTART:20231029T010000
END:STANDARD
END:VTIMEZONE
BEGIN:VEVENT
DTSTART;TZID=Europe/Ljubljana:20230523T170000
DTEND;TZID=Europe/Ljubljana:20230523T200000
DTSTAMP:20260421T115514
CREATED:20230512T132021Z
LAST-MODIFIED:20230512T132021Z
UID:3750-1684861200-1684872000@zid-mb.si
SUMMARY:Občni zbor ZID
DESCRIPTION:Vljudno vabljeni na občni zbor ZID Maribor\, ki bo v torek\, 23. maja 2023\, ob 17.00\,  v Gostišču Janez\, Ciril Metodova 4\, Maribor. \n  \n20230523_VabiloNaObcniZborZID2023\n
URL:https://zid-mb.si/event/obcni-zbor-zid/
LOCATION:Gostišče Janez\, Ciril Metodova 4\, Maribor\, Slovenija
ORGANIZER;CN="ZID":MAILTO:zid@zid-mb.si
END:VEVENT
END:VCALENDAR