BEGIN:VCALENDAR
VERSION:2.0
PRODID:-//ZID - ECPv5.0.3.1//NONSGML v1.0//EN
CALSCALE:GREGORIAN
METHOD:PUBLISH
X-WR-CALNAME:ZID
X-ORIGINAL-URL:https://zid-mb.si
X-WR-CALDESC:Events for ZID
BEGIN:VTIMEZONE
TZID:Europe/Ljubljana
BEGIN:DAYLIGHT
TZOFFSETFROM:+0100
TZOFFSETTO:+0200
TZNAME:CEST
DTSTART:20230326T010000
END:DAYLIGHT
BEGIN:STANDARD
TZOFFSETFROM:+0200
TZOFFSETTO:+0100
TZNAME:CET
DTSTART:20231029T010000
END:STANDARD
END:VTIMEZONE
BEGIN:VEVENT
DTSTART;TZID=Europe/Ljubljana:20230406T100000
DTEND;TZID=Europe/Ljubljana:20230406T113000
DTSTAMP:20260421T120014
CREATED:20230326T204217Z
LAST-MODIFIED:20230326T204744Z
UID:3680-1680775200-1680780600@zid-mb.si
SUMMARY:Ogled Višje strokovne šole za turizem in gostinstvo Maribor
DESCRIPTION:Strokovna ekskurzija – ogled Višje strokovne šole za turizem in gostinstvo Maribor. V četrtek\, 6. aprila 2023 ob 10.00\, Društvo seniorjev in Komisija za izobraževanje ZID Maribor organizirata ogled šole\, kjer si bomo ogledali kongresni center – amfiteater\, strokovno delo v specializiranih laboratorijih za kuharstvo\, strežbo in vinske degustacije\, čitalnico welness in VIP seminarsko sobo. \nVljudno vabljeni. \n  \n20230406_Predavanje_DrustvoSeniorjev\n
URL:https://zid-mb.si/event/ogled-visje-strokovne-sole-za-turizem-in-gostinstvo-maribor/
LOCATION:Višja strokovna šola za turizem in gostinstvo Maribor\, Cafova ulica 7\, Maribor\, Slovenija
ATTACH;FMTTYPE=image/jpeg:https://zid-mb.si/wp-content/uploads/2023/03/VSGTlogo.jpg
END:VEVENT
END:VCALENDAR