BEGIN:VCALENDAR
VERSION:2.0
PRODID:-//ZID - ECPv5.0.3.1//NONSGML v1.0//EN
CALSCALE:GREGORIAN
METHOD:PUBLISH
X-WR-CALNAME:ZID
X-ORIGINAL-URL:https://zid-mb.si
X-WR-CALDESC:Events for ZID
BEGIN:VTIMEZONE
TZID:Europe/Ljubljana
BEGIN:DAYLIGHT
TZOFFSETFROM:+0100
TZOFFSETTO:+0200
TZNAME:CEST
DTSTART:20250330T010000
END:DAYLIGHT
BEGIN:STANDARD
TZOFFSETFROM:+0200
TZOFFSETTO:+0100
TZNAME:CET
DTSTART:20251026T010000
END:STANDARD
END:VTIMEZONE
BEGIN:VEVENT
DTSTART;TZID=Europe/Ljubljana:20250308T193000
DTEND;TZID=Europe/Ljubljana:20250309T010000
DTSTAMP:20260421T103024
CREATED:20250303T114124Z
LAST-MODIFIED:20250303T114124Z
UID:4116-1741462200-1741482000@zid-mb.si
SUMMARY:Ples inženirjev 2025
DESCRIPTION:Društvo ALUMNI FS pod častnim pokroviteljstvom rektorja Univerze v Mariboru vabi na PLES INŽENIRJEV\, ki bo v soboto\, 8. marca 2025\, ob 19.30 v hotelu Habakuk v Mariboru. \nZa glasbo in show bosta skrbeli skupini ATLANTIX in LATINO TABLAO. Cena vstopnice na osebo\, ki vključuje svečano večerjo in aperitiv\, je 50 €\, za študente 15 €. Informacije in rezervacije vstopnic do 5. marca na nusa@rasg.si ali na telefonski številki 031 406 071. \nVljudno vabljeni. \n  \n20250308_Vabilo na ples inženirjev 2025\n
URL:https://zid-mb.si/event/ples-inzenirjev-2025/
LOCATION:Hotel Habakuk\, Pohorska ulica 59\, Maribor\, Slovenija
ORGANIZER;CN="Alumni%20FS%20UM":MAILTO:alumni.fs@um.si
END:VEVENT
END:VCALENDAR