BEGIN:VCALENDAR
VERSION:2.0
PRODID:-//ZID - ECPv5.0.3.1//NONSGML v1.0//EN
CALSCALE:GREGORIAN
METHOD:PUBLISH
X-WR-CALNAME:ZID
X-ORIGINAL-URL:https://zid-mb.si
X-WR-CALDESC:Events for ZID
BEGIN:VTIMEZONE
TZID:Europe/Ljubljana
BEGIN:DAYLIGHT
TZOFFSETFROM:+0100
TZOFFSETTO:+0200
TZNAME:CEST
DTSTART:20260329T010000
END:DAYLIGHT
BEGIN:STANDARD
TZOFFSETFROM:+0200
TZOFFSETTO:+0100
TZNAME:CET
DTSTART:20261025T010000
END:STANDARD
END:VTIMEZONE
BEGIN:VEVENT
DTSTART;TZID=Europe/Ljubljana:20260129T130000
DTEND;TZID=Europe/Ljubljana:20260129T160000
DTSTAMP:20260421T102632
CREATED:20260120T113434Z
LAST-MODIFIED:20260120T113434Z
UID:4234-1769691600-1769702400@zid-mb.si
SUMMARY:Ponovoletno srečanje in sestanek Upravnega odbora ZID Maribor
DESCRIPTION:Vljudno vas vabimo na po-novoletno srečanje in prvo sejo članov UO ZID Maribor\, ki bo v četrtek\, 29. 01. 2026\, ob 13. uri\, v Restavraciji Vnukec\, Ob Blažovnici 86\, 2341 Limbuš. \n  \n20260129_Vabilo_SejaUOZID_januar 2026\n
URL:https://zid-mb.si/event/ponovoletno-srecanje-in-sestanek-upravnega-odbora-zid-maribor/
LOCATION:Restavracija Vnukec\, Ob Blažovnici 86\, Limbuš\, 2341\, Slovenia
ORGANIZER;CN="ZID":MAILTO:zid@zid-mb.si
END:VEVENT
END:VCALENDAR