BEGIN:VCALENDAR
VERSION:2.0
PRODID:-//ZID - ECPv5.0.3.1//NONSGML v1.0//EN
CALSCALE:GREGORIAN
METHOD:PUBLISH
X-WR-CALNAME:ZID
X-ORIGINAL-URL:https://zid-mb.si
X-WR-CALDESC:Events for ZID
BEGIN:VTIMEZONE
TZID:Europe/Ljubljana
BEGIN:DAYLIGHT
TZOFFSETFROM:+0100
TZOFFSETTO:+0200
TZNAME:CEST
DTSTART:20250330T010000
END:DAYLIGHT
BEGIN:STANDARD
TZOFFSETFROM:+0200
TZOFFSETTO:+0100
TZNAME:CET
DTSTART:20251026T010000
END:STANDARD
END:VTIMEZONE
BEGIN:VEVENT
DTSTART;TZID=Europe/Ljubljana:20250320T170000
DTEND;TZID=Europe/Ljubljana:20250320T183000
DTSTAMP:20260421T102221
CREATED:20250317T081143Z
LAST-MODIFIED:20250317T121536Z
UID:4120-1742490000-1742495400@zid-mb.si
SUMMARY:Sestanek Upravnega odbora ZID Maribor
DESCRIPTION:Predsednik ZID Maribor vabi na sestanek Upravnega odbora ZID Maribor\, ki bo v četrtek\, 20. marca 2025\, ob 17.00 na sedežu ZID\, Židovska ulica 1\, Maribor. \nVse podrobnosti in dnevni red najdete v priloženem vabilu. \n  \n20250320_Vabilo sestanek OU ZID Maribor\n
URL:https://zid-mb.si/event/sestanek-upravnega-odbora-zid-maribor-6/
LOCATION:ZID Maribor\, Židovska ulica 1\, Maribor\, 2000\, Slovenija
END:VEVENT
END:VCALENDAR