BEGIN:VCALENDAR
VERSION:2.0
PRODID:-//ZID - ECPv5.0.3.1//NONSGML v1.0//EN
CALSCALE:GREGORIAN
METHOD:PUBLISH
X-WR-CALNAME:ZID
X-ORIGINAL-URL:https://zid-mb.si
X-WR-CALDESC:Events for ZID
BEGIN:VTIMEZONE
TZID:Europe/Ljubljana
BEGIN:DAYLIGHT
TZOFFSETFROM:+0100
TZOFFSETTO:+0200
TZNAME:CEST
DTSTART:20230326T010000
END:DAYLIGHT
BEGIN:STANDARD
TZOFFSETFROM:+0200
TZOFFSETTO:+0100
TZNAME:CET
DTSTART:20231029T010000
END:STANDARD
END:VTIMEZONE
BEGIN:VEVENT
DTSTART;TZID=Europe/Ljubljana:20230511T170000
DTEND;TZID=Europe/Ljubljana:20230511T183000
DTSTAMP:20260421T120757
CREATED:20230426T112133Z
LAST-MODIFIED:20230426T112254Z
UID:3738-1683824400-1683829800@zid-mb.si
SUMMARY:Sodoben pristop pri rekonstrukcijah varnostnih zapornic na hidroenergetskih objektih
DESCRIPTION:Fakulteta za strojništvo\, Društvo ALUMNI Fakultete za strojništvo in Zveza inženirskih društev Maribor vabimo na strokovno predavanje “Sodoben pristop pri rekonstrukcijah varnostnih zapornic na hidroenergetskih objektih“\, ki bo potekalo v četrtek\, 11. maja 2023\, ob 17. 00 v predavalnici B-108 na Fakulteti za strojništvo\, Smetanova 17\, Maribor. \nPredavala bosta Sašo Belšak\, u.d.i.s. ewe\, in dr. Filip Stojkovski\, u.d.i.s. (oba Iskra Impuls). \n  \n20230511_StrokovnoPredavanje\n
URL:https://zid-mb.si/event/sodoben-pristop-pri-rekonstrukcijah-varnostnih-zapornic-na-hidroenergetskih-objektih/
LOCATION:predavalnica B-108\, Tehniške fakultete\, Smetanova 17\, Maribor\, Slovenija
ATTACH;FMTTYPE=image/png:https://zid-mb.si/wp-content/uploads/2022/12/20230112_AlumniFS.png
ORGANIZER;CN="Alumni%20FS%20UM":MAILTO:alumni.fs@um.si
END:VEVENT
END:VCALENDAR