BEGIN:VCALENDAR
VERSION:2.0
PRODID:-//ZID - ECPv5.0.3.1//NONSGML v1.0//EN
CALSCALE:GREGORIAN
METHOD:PUBLISH
X-WR-CALNAME:ZID
X-ORIGINAL-URL:https://zid-mb.si
X-WR-CALDESC:Events for ZID
BEGIN:VTIMEZONE
TZID:Europe/Ljubljana
BEGIN:DAYLIGHT
TZOFFSETFROM:+0100
TZOFFSETTO:+0200
TZNAME:CEST
DTSTART:20210328T010000
END:DAYLIGHT
BEGIN:STANDARD
TZOFFSETFROM:+0200
TZOFFSETTO:+0100
TZNAME:CET
DTSTART:20211031T010000
END:STANDARD
END:VTIMEZONE
BEGIN:VEVENT
DTSTART;TZID=Europe/Ljubljana:20210408T093000
DTEND;TZID=Europe/Ljubljana:20210408T190000
DTSTAMP:20260421T103453
CREATED:20210406T065715Z
LAST-MODIFIED:20210406T065715Z
UID:3397-1617874200-1617908400@zid-mb.si
SUMMARY:Spletna konferenca: Avtomatizacija v industriji in gospodarstvu - AIG'21
DESCRIPTION:ZID Maribor je medijsko-tehnični pokrovitelj spletne strokovne konference \nAvtomatizacija v gospodarstvu in industriji – 8. april\, 2021 \nhttp://aig.si/ \nZa člane ZID Maribor je udeležba na daljavo\, preko orodja MS Teams\, na spletni konferenci brezplačna.\nZa udeležbo se prijavite na spletno stran konference\, nakar boste prejeli avtomatsko povabilo: \nhttp://aig.si/prijava-na-aig \n
URL:https://zid-mb.si/event/spletna-konferenca-avtomatizacija-v-industriji-in-gospodarstvu-aig21/
END:VEVENT
END:VCALENDAR