BEGIN:VCALENDAR
VERSION:2.0
PRODID:-//ZID - ECPv5.0.3.1//NONSGML v1.0//EN
CALSCALE:GREGORIAN
METHOD:PUBLISH
X-WR-CALNAME:ZID
X-ORIGINAL-URL:https://zid-mb.si
X-WR-CALDESC:Events for ZID
BEGIN:VTIMEZONE
TZID:Europe/Ljubljana
BEGIN:DAYLIGHT
TZOFFSETFROM:+0100
TZOFFSETTO:+0200
TZNAME:CEST
DTSTART:20260329T010000
END:DAYLIGHT
BEGIN:STANDARD
TZOFFSETFROM:+0200
TZOFFSETTO:+0100
TZNAME:CET
DTSTART:20261025T010000
END:STANDARD
END:VTIMEZONE
BEGIN:VEVENT
DTSTART;TZID=Europe/Ljubljana:20260416T080000
DTEND;TZID=Europe/Ljubljana:20260416T183000
DTSTAMP:20260422T083235
CREATED:20260327T075808Z
LAST-MODIFIED:20260327T075808Z
UID:4269-1776326400-1776364200@zid-mb.si
SUMMARY:Strokovna ekskurzija Društva živilcev v Sladki Vrh\, Šentilj in Jareninski dol
DESCRIPTION:Društvo živilskih in prehranskih strokovnih delavcev SV Slovenije vabi na strokovno\, kulturno in kulinarično ekskurzijo v Sladki Vrh\, Šentilj in Jareninski Dol. Ekskurzija bo v četrtek\, 16. 4. 2026\, organiziran je ogled podjetja Paloma Sladkogorska\, rečna avantura z brodom na Muri v Sladkem Vrhu\, kosilo na Kmečkem turizmu Kranjc\, ogled muzeja Alfija Nipiča z degustacijo vina. \nCena po udeležencu z vključenim prevozom\, ogledi ter s kosilom znaša 48\,00 EUR. \nPrijave sprejema Irena Rihter 041 955 240 (med 15.00 in 18.00) ali na irena.rihter@icp-mb.si do zasedbe 40-sedežnega avtobusa oz. najpozneje do sobote\, 11. aprila 2026. Upoštevane bodo le prijave\, za katere bo vplačana kotizacija ob prijavi \n  \n20260416_VabiloSladkogorska\n  \n
URL:https://zid-mb.si/event/strokovna-ekskurzija-drustva-zivilcev-v-sladki-vrh-sentilj-in-jareninski-dol/
END:VEVENT
END:VCALENDAR