BEGIN:VCALENDAR
VERSION:2.0
PRODID:-//ZID - ECPv5.0.3.1//NONSGML v1.0//EN
CALSCALE:GREGORIAN
METHOD:PUBLISH
X-WR-CALNAME:ZID
X-ORIGINAL-URL:https://zid-mb.si
X-WR-CALDESC:Events for ZID
BEGIN:VTIMEZONE
TZID:Europe/Ljubljana
BEGIN:DAYLIGHT
TZOFFSETFROM:+0100
TZOFFSETTO:+0200
TZNAME:CEST
DTSTART:20230326T010000
END:DAYLIGHT
BEGIN:STANDARD
TZOFFSETFROM:+0200
TZOFFSETTO:+0100
TZNAME:CET
DTSTART:20231029T010000
END:STANDARD
END:VTIMEZONE
BEGIN:VEVENT
DTSTART;TZID=Europe/Ljubljana:20230420T070000
DTEND;TZID=Europe/Ljubljana:20230420T183000
DTSTAMP:20260421T115937
CREATED:20230407T082930Z
LAST-MODIFIED:20230407T082930Z
UID:3704-1681974000-1682015400@zid-mb.si
SUMMARY:Strokovna ekskurzija: Varaždin\, Čakovec in Jurovčak
DESCRIPTION:Društvo živilskih in prehranskih strokovnih delavcev SV Slovenije organizira enodnevno strokovno ekskurzijo v Varaždin\, Čakovec in Jurovčak\, z ogledom mestne tržnice\, katedrale in gledališča ter medžimurske hiše in vinskega kampa. Ekskurzija bo v četrtek\, 20. 4. 2023\, z odhodom ob 7.00. \nVse podrobnosti so navedene v programu. \n  \n20230420_Strokovna ekskurzja v Varaždin\n
URL:https://zid-mb.si/event/strokovna-ekskurzija-varazdin-cakovec-in-jurovcak/
ATTACH;FMTTYPE=image/png:https://zid-mb.si/wp-content/uploads/2023/04/Varazdin.png
ORGANIZER;CN="Dru%C5%A1tvo%20%C5%BEivilskih%20in%20prehranskih%20strokovnih%20delavcev%20SV%20Slovenije%3A%20%C5%A0tefan%20Cmre%C4%8Dnjak":MAILTO:amabilis@triera.net
END:VEVENT
END:VCALENDAR