BEGIN:VCALENDAR
VERSION:2.0
PRODID:-//ZID - ECPv5.0.3.1//NONSGML v1.0//EN
CALSCALE:GREGORIAN
METHOD:PUBLISH
X-WR-CALNAME:ZID
X-ORIGINAL-URL:https://zid-mb.si
X-WR-CALDESC:Events for ZID
BEGIN:VTIMEZONE
TZID:Europe/Ljubljana
BEGIN:DAYLIGHT
TZOFFSETFROM:+0100
TZOFFSETTO:+0200
TZNAME:CEST
DTSTART:20240331T010000
END:DAYLIGHT
BEGIN:STANDARD
TZOFFSETFROM:+0200
TZOFFSETTO:+0100
TZNAME:CET
DTSTART:20241027T010000
END:STANDARD
END:VTIMEZONE
BEGIN:VEVENT
DTSTART;TZID=Europe/Ljubljana:20240530T170000
DTEND;TZID=Europe/Ljubljana:20240530T190000
DTSTAMP:20260421T103320
CREATED:20240531T125736Z
LAST-MODIFIED:20240531T125832Z
UID:3983-1717088400-1717095600@zid-mb.si
SUMMARY:Strokovni predavanji Gozd in gozdarstvo v Sloveniji ter Bornska bolezen
DESCRIPTION:Društvo živilcev vabi na strokovni predavanji: \n\nM. Vrecl: Gozd in gozdarstvo v Sloveniji\nG. Pen: Bornska bolezen\,\n\nki bosta v četrtek\, 30. 5. 2024\, s pričetkom ob 17.00 v prostorih IC Piramida Maribor\, Park mladih 3 Maribor. \n
URL:https://zid-mb.si/event/strokovni-predavanji-gozd-in-gozdarstvo-v-sloveniji-ter-bornska-bolezen/
LOCATION:Izobraževalni center Piramida\, Park mladih 3\, Maribor\, Slovenija
END:VEVENT
END:VCALENDAR