BEGIN:VCALENDAR
VERSION:2.0
PRODID:-//ZID - ECPv5.0.3.1//NONSGML v1.0//EN
CALSCALE:GREGORIAN
METHOD:PUBLISH
X-WR-CALNAME:ZID
X-ORIGINAL-URL:https://zid-mb.si
X-WR-CALDESC:Events for ZID
BEGIN:VTIMEZONE
TZID:Europe/Ljubljana
BEGIN:DAYLIGHT
TZOFFSETFROM:+0100
TZOFFSETTO:+0200
TZNAME:CEST
DTSTART:20250330T010000
END:DAYLIGHT
BEGIN:STANDARD
TZOFFSETFROM:+0200
TZOFFSETTO:+0100
TZNAME:CET
DTSTART:20251026T010000
END:STANDARD
END:VTIMEZONE
BEGIN:VEVENT
DTSTART;TZID=Europe/Ljubljana:20251117T170000
DTEND;TZID=Europe/Ljubljana:20251117T193000
DTSTAMP:20260421T101354
CREATED:20251104T142946Z
LAST-MODIFIED:20251104T142946Z
UID:4209-1763398800-1763407800@zid-mb.si
SUMMARY:Strokovni predavanji v organizaciji Društva živilcev
DESCRIPTION:Društvo živilcev v sodelovanju z Društvom za zdravje srca in ožilja: \n\nALU FOLIJA – PROIZVODNJA\, ZAHTEVE ZA KAKOVOST IN PRILOŽNOSTI ZA NJENO UPORABO (predavateljica dr. Darja VOLŠAK)\nMANJ ZNANE MOŽNOSTI ZA IZBOLJŠANJE SRČNO-ŽILNEGA ZDRAVJA (predavatelj prim. Mirko BOMBEK\, dr. med.\, spec)\n\nVljudno vabljeni. \n  \n20251117_VabiloPredavanje\n
URL:https://zid-mb.si/event/strokovni-predavanji-v-organizaciji-drustva-zivilcev/
LOCATION:Izobraževalni center Piramida\, Park mladih 3\, Maribor\, Slovenija
END:VEVENT
END:VCALENDAR