BEGIN:VCALENDAR
VERSION:2.0
PRODID:-//ZID - ECPv5.0.3.1//NONSGML v1.0//EN
CALSCALE:GREGORIAN
METHOD:PUBLISH
X-WR-CALNAME:ZID
X-ORIGINAL-URL:https://zid-mb.si
X-WR-CALDESC:Events for ZID
BEGIN:VTIMEZONE
TZID:Europe/Ljubljana
BEGIN:DAYLIGHT
TZOFFSETFROM:+0100
TZOFFSETTO:+0200
TZNAME:CEST
DTSTART:20240331T010000
END:DAYLIGHT
BEGIN:STANDARD
TZOFFSETFROM:+0200
TZOFFSETTO:+0100
TZNAME:CET
DTSTART:20241027T010000
END:STANDARD
END:VTIMEZONE
BEGIN:VEVENT
DTSTART;TZID=Europe/Ljubljana:20241121T170000
DTEND;TZID=Europe/Ljubljana:20241121T183000
DTSTAMP:20260421T120014
CREATED:20241112T212154Z
LAST-MODIFIED:20241112T212154Z
UID:4070-1732208400-1732213800@zid-mb.si
SUMMARY:Strokovno predavanje Vloga finančnih spodbud pri zelenem prehodu v brezogljično družbo
DESCRIPTION:Fakulteta za strojništvo UM in Društvo ALUMNI Fakultete za strojništvo vabita na strokovno predavanje na temo Vloga finančnih spodbud pri zelenem prehodu v brezogljično družbo\, predavatelj Iztok Gornjak\, univ. dipl. gosp. inž. str. iz podjetja Borzen d. o. o. \nPo predavanju bo sledila panelna diskusija\, v kateri bosta sodelovala izr. prof. dr. Filip Kokalj (FS UM) in Ljubo Germič (Energetika Maribor). \nSvojo udeležbo potrdite po e-pošti na naslov fsum.cvu@gmail.com. \nVljudno vabljeni! \n  \n20241121_StrokovnoPredavanje\n
URL:https://zid-mb.si/event/strokovno-predavanje-vloga-financnih-spodbud-pri-zelenem-prehodu-v-brezogljicno-druzbo/
LOCATION:Predavalnica inž. Ivana Munde E-104\, Smetanova 17\, Maribor\, Slovenija
ORGANIZER;CN="Alumni%20FS%20UM":MAILTO:alumni.fs@um.si
END:VEVENT
END:VCALENDAR