BEGIN:VCALENDAR
VERSION:2.0
PRODID:-//ZID - ECPv5.0.3.1//NONSGML v1.0//EN
CALSCALE:GREGORIAN
METHOD:PUBLISH
X-WR-CALNAME:ZID
X-ORIGINAL-URL:https://zid-mb.si
X-WR-CALDESC:Events for ZID
BEGIN:VTIMEZONE
TZID:Europe/Ljubljana
BEGIN:DAYLIGHT
TZOFFSETFROM:+0100
TZOFFSETTO:+0200
TZNAME:CEST
DTSTART:20250330T010000
END:DAYLIGHT
BEGIN:STANDARD
TZOFFSETFROM:+0200
TZOFFSETTO:+0100
TZNAME:CET
DTSTART:20251026T010000
END:STANDARD
END:VTIMEZONE
BEGIN:VEVENT
DTSTART;TZID=Europe/Ljubljana:20251003T130000
DTEND;TZID=Europe/Ljubljana:20251003T170000
DTSTAMP:20260421T101354
CREATED:20250919T082328Z
LAST-MODIFIED:20250919T082941Z
UID:4187-1759496400-1759510800@zid-mb.si
SUMMARY:Svečana akademija ob 70-letnici delovanja
DESCRIPTION:Društvo geodetov severovzhodne Slovenije ob svoji 70. obletnici delovanja vabi na svečano akademijo\, ki bo potekala 3. oktobra 2025\, ob 13. uri v Parku doživetij Ljutomer. \nSvojo udeležbo prosimo potrdite TUKAJ. \nVljudno vabljeni. \n  \n20251003_SvecanaAkademija\n
URL:https://zid-mb.si/event/svecana-akademija-ob-70-letnici-delovanja/
LOCATION:Park doživetij Ljutomer\, H46W+X9 Križevci pri Ljutomeru\, Križevci pri Ljutomeru\, 9242\, Slovenia
END:VEVENT
END:VCALENDAR